BEGIN:VCALENDAR
VERSION:2.0
PRODID:-//Venlose Schaakvereniging - ECPv6.15.14//NONSGML v1.0//EN
CALSCALE:GREGORIAN
METHOD:PUBLISH
X-WR-CALNAME:Venlose Schaakvereniging
X-ORIGINAL-URL:https://venlose-sv.nl
X-WR-CALDESC:Evenementen voor Venlose Schaakvereniging
REFRESH-INTERVAL;VALUE=DURATION:PT1H
X-Robots-Tag:noindex
X-PUBLISHED-TTL:PT1H
BEGIN:VTIMEZONE
TZID:Europe/Amsterdam
BEGIN:DAYLIGHT
TZOFFSETFROM:+0100
TZOFFSETTO:+0200
TZNAME:CEST
DTSTART:20250330T010000
END:DAYLIGHT
BEGIN:STANDARD
TZOFFSETFROM:+0200
TZOFFSETTO:+0100
TZNAME:CET
DTSTART:20251026T010000
END:STANDARD
BEGIN:DAYLIGHT
TZOFFSETFROM:+0100
TZOFFSETTO:+0200
TZNAME:CEST
DTSTART:20260329T010000
END:DAYLIGHT
BEGIN:STANDARD
TZOFFSETFROM:+0200
TZOFFSETTO:+0100
TZNAME:CET
DTSTART:20261025T010000
END:STANDARD
BEGIN:DAYLIGHT
TZOFFSETFROM:+0100
TZOFFSETTO:+0200
TZNAME:CEST
DTSTART:20270328T010000
END:DAYLIGHT
BEGIN:STANDARD
TZOFFSETFROM:+0200
TZOFFSETTO:+0100
TZNAME:CET
DTSTART:20271031T010000
END:STANDARD
END:VTIMEZONE
BEGIN:VEVENT
DTSTART;TZID=Europe/Amsterdam:20260223T200000
DTEND;TZID=Europe/Amsterdam:20260223T233000
DTSTAMP:20260421T222440
CREATED:20250916T203020Z
LAST-MODIFIED:20251005T101541Z
UID:23528-1771876800-1771889400@venlose-sv.nl
SUMMARY:BSV Open\, ronde 4
DESCRIPTION:Blerickse Schaakvereniging
URL:https://venlose-sv.nl/agenda/bsv-open-ronde-4/
LOCATION:’t Raodhoes\, Antoniusplein 2\, Blerick\, 5921 GV\, Nederland
ATTACH;FMTTYPE=image/jpeg:https://venlose-sv.nl/wp-content/uploads/Raodhoes-Blerick.jpg
END:VEVENT
BEGIN:VEVENT
DTSTART;TZID=Europe/Amsterdam:20260219T200000
DTEND;TZID=Europe/Amsterdam:20260219T233000
DTSTAMP:20260421T222440
CREATED:20251219T160824Z
LAST-MODIFIED:20251219T160824Z
UID:24387-1771531200-1771543800@venlose-sv.nl
SUMMARY:interne competitie + rapid
DESCRIPTION:
URL:https://venlose-sv.nl/agenda/interne-competitie-rapid-20/
LOCATION:Ald Weishoès\, Grote Kerkstraat 31\, Venlo\, 5911 CG
END:VEVENT
BEGIN:VEVENT
DTSTART;TZID=Europe/Amsterdam:20260212T200000
DTEND;TZID=Europe/Amsterdam:20260212T233000
DTSTAMP:20260421T222440
CREATED:20251219T160653Z
LAST-MODIFIED:20251219T160653Z
UID:24385-1770926400-1770939000@venlose-sv.nl
SUMMARY:interne competitie + rapid
DESCRIPTION:
URL:https://venlose-sv.nl/agenda/interne-competitie-rapid-19/
LOCATION:Ald Weishoès\, Grote Kerkstraat 31\, Venlo\, 5911 CG
END:VEVENT
BEGIN:VEVENT
DTSTART;TZID=Europe/Amsterdam:20260212T183000
DTEND;TZID=Europe/Amsterdam:20260212T193000
DTSTAMP:20260421T222440
CREATED:20251217T153143Z
LAST-MODIFIED:20251217T153423Z
UID:24370-1770921000-1770924600@venlose-sv.nl
SUMMARY:Jeugdschaak
DESCRIPTION:
URL:https://venlose-sv.nl/agenda/jeugdschaak-19/
LOCATION:Ald Weishoès\, Grote Kerkstraat 31\, Venlo\, 5911 CG
CATEGORIES:Jeugd
ORGANIZER;CN="Venlose Schaakvereniging":MAILTO:geert.hovens@planet.nl
END:VEVENT
BEGIN:VEVENT
DTSTART;TZID=Europe/Amsterdam:20260207T130000
DTEND;TZID=Europe/Amsterdam:20260207T180000
DTSTAMP:20260421T222440
CREATED:20251026T191437Z
LAST-MODIFIED:20251026T191437Z
UID:23826-1770469200-1770487200@venlose-sv.nl
SUMMARY:7e ronde KNSB-competitie 2025-2026: Venlo 1 - De Stukkenjagers 2
DESCRIPTION:Venlo 1 – De Stukkenjagers 2\nZie KNSB Netstand
URL:https://venlose-sv.nl/agenda/7e-ronde-knsb-competitie-2025-2026-venlo-1-de-stukkenjagers-2-3/
LOCATION:Ald Weishoès\, Grote Kerkstraat 31\, Venlo\, 5911 CG
ATTACH;FMTTYPE=image/jpeg:https://venlose-sv.nl/wp-content/uploads/2022/11/Ald-Weishoes.jpg
END:VEVENT
BEGIN:VEVENT
DTSTART;TZID=Europe/Amsterdam:20260205T200000
DTEND;TZID=Europe/Amsterdam:20260205T233000
DTSTAMP:20260421T222440
CREATED:20251219T160538Z
LAST-MODIFIED:20251219T160538Z
UID:24383-1770321600-1770334200@venlose-sv.nl
SUMMARY:interne competitie + rapid
DESCRIPTION:
URL:https://venlose-sv.nl/agenda/interne-competitie-rapid-18/
LOCATION:Ald Weishoès\, Grote Kerkstraat 31\, Venlo\, 5911 CG
END:VEVENT
BEGIN:VEVENT
DTSTART;TZID=Europe/Amsterdam:20260205T183000
DTEND;TZID=Europe/Amsterdam:20260205T193000
DTSTAMP:20260421T222440
CREATED:20251217T153018Z
LAST-MODIFIED:20251217T153055Z
UID:24368-1770316200-1770319800@venlose-sv.nl
SUMMARY:Jeugdschaak
DESCRIPTION:
URL:https://venlose-sv.nl/agenda/jeugdschaak-18/
LOCATION:Ald Weishoès\, Grote Kerkstraat 31\, Venlo\, 5911 CG
CATEGORIES:Jeugd
ORGANIZER;CN="Venlose Schaakvereniging":MAILTO:geert.hovens@planet.nl
END:VEVENT
BEGIN:VEVENT
DTSTART;VALUE=DATE:20260201
DTEND;VALUE=DATE:20260202
DTSTAMP:20260421T222440
CREATED:20250731T112852Z
LAST-MODIFIED:20260123T174534Z
UID:23262-1769904000-1769990399@venlose-sv.nl
SUMMARY:33e Van Spijktoernooi GP Jeugdtoernooi
DESCRIPTION:Meer informatie: https://www.lisb.nl/jeugd/competities/jeugd-grand-prix\nZie de Flyer.
URL:https://venlose-sv.nl/agenda/33e-van-spijktoernooi-gp-jeugdtoernooi/
LOCATION:Ald Weishoès\, Grote Kerkstraat 31\, Venlo\, 5911 CG
CATEGORIES:Jeugd
ATTACH;FMTTYPE=image/jpeg:https://venlose-sv.nl/wp-content/uploads/2022/11/Ald-Weishoes.jpg
END:VEVENT
BEGIN:VEVENT
DTSTART;TZID=Europe/Amsterdam:20260129T200000
DTEND;TZID=Europe/Amsterdam:20260129T233000
DTSTAMP:20260421T222440
CREATED:20251219T155950Z
LAST-MODIFIED:20251219T155950Z
UID:24381-1769716800-1769729400@venlose-sv.nl
SUMMARY:interne competitie + rapid
DESCRIPTION:
URL:https://venlose-sv.nl/agenda/interne-competitie-rapid-17/
LOCATION:Ald Weishoès\, Grote Kerkstraat 31\, Venlo\, 5911 CG
END:VEVENT
BEGIN:VEVENT
DTSTART;TZID=Europe/Amsterdam:20260129T183000
DTEND;TZID=Europe/Amsterdam:20260129T193000
DTSTAMP:20260421T222440
CREATED:20251217T150758Z
LAST-MODIFIED:20251217T150758Z
UID:24366-1769711400-1769715000@venlose-sv.nl
SUMMARY:Jeugdschaak
DESCRIPTION:
URL:https://venlose-sv.nl/agenda/jeugdschaak-17/
LOCATION:Ald Weishoès\, Grote Kerkstraat 31\, Venlo\, 5911 CG
CATEGORIES:Jeugd
ORGANIZER;CN="Venlose Schaakvereniging":MAILTO:geert.hovens@planet.nl
END:VEVENT
BEGIN:VEVENT
DTSTART;TZID=Europe/Amsterdam:20260126T200000
DTEND;TZID=Europe/Amsterdam:20260126T233000
DTSTAMP:20260421T222440
CREATED:20250916T202901Z
LAST-MODIFIED:20250916T202901Z
UID:23526-1769457600-1769470200@venlose-sv.nl
SUMMARY:BSV Open\, ronde 3
DESCRIPTION:Blerickse Schaakvereniging
URL:https://venlose-sv.nl/agenda/bsv-open-ronde-3/
LOCATION:’t Raodhoes\, Antoniusplein 2\, Blerick\, 5921 GV\, Nederland
END:VEVENT
BEGIN:VEVENT
DTSTART;TZID=Europe/Amsterdam:20260122T200000
DTEND;TZID=Europe/Amsterdam:20260122T233000
DTSTAMP:20260421T222440
CREATED:20251219T155714Z
LAST-MODIFIED:20251219T155714Z
UID:24379-1769112000-1769124600@venlose-sv.nl
SUMMARY:interne competitie + rapid
DESCRIPTION:
URL:https://venlose-sv.nl/agenda/interne-competitie-rapid-2/
LOCATION:Ald Weishoès\, Grote Kerkstraat 31\, Venlo\, 5911 CG
END:VEVENT
BEGIN:VEVENT
DTSTART;TZID=Europe/Amsterdam:20260122T183000
DTEND;TZID=Europe/Amsterdam:20260122T193000
DTSTAMP:20260421T222440
CREATED:20251217T150703Z
LAST-MODIFIED:20251217T150703Z
UID:24364-1769106600-1769110200@venlose-sv.nl
SUMMARY:Jeugdschaak
DESCRIPTION:
URL:https://venlose-sv.nl/agenda/jeugdschaak-16/
LOCATION:Ald Weishoès\, Grote Kerkstraat 31\, Venlo\, 5911 CG
CATEGORIES:Jeugd
ORGANIZER;CN="Venlose Schaakvereniging":MAILTO:geert.hovens@planet.nl
END:VEVENT
END:VCALENDAR