BEGIN:VCALENDAR
VERSION:2.0
PRODID:-//Venlose Schaakvereniging - ECPv6.15.14//NONSGML v1.0//EN
CALSCALE:GREGORIAN
METHOD:PUBLISH
X-WR-CALNAME:Venlose Schaakvereniging
X-ORIGINAL-URL:https://venlose-sv.nl
X-WR-CALDESC:Evenementen voor Venlose Schaakvereniging
REFRESH-INTERVAL;VALUE=DURATION:PT1H
X-Robots-Tag:noindex
X-PUBLISHED-TTL:PT1H
BEGIN:VTIMEZONE
TZID:Europe/Amsterdam
BEGIN:DAYLIGHT
TZOFFSETFROM:+0100
TZOFFSETTO:+0200
TZNAME:CEST
DTSTART:20250330T010000
END:DAYLIGHT
BEGIN:STANDARD
TZOFFSETFROM:+0200
TZOFFSETTO:+0100
TZNAME:CET
DTSTART:20251026T010000
END:STANDARD
BEGIN:DAYLIGHT
TZOFFSETFROM:+0100
TZOFFSETTO:+0200
TZNAME:CEST
DTSTART:20260329T010000
END:DAYLIGHT
BEGIN:STANDARD
TZOFFSETFROM:+0200
TZOFFSETTO:+0100
TZNAME:CET
DTSTART:20261025T010000
END:STANDARD
BEGIN:DAYLIGHT
TZOFFSETFROM:+0100
TZOFFSETTO:+0200
TZNAME:CEST
DTSTART:20270328T010000
END:DAYLIGHT
BEGIN:STANDARD
TZOFFSETFROM:+0200
TZOFFSETTO:+0100
TZNAME:CET
DTSTART:20271031T010000
END:STANDARD
BEGIN:DAYLIGHT
TZOFFSETFROM:+0100
TZOFFSETTO:+0200
TZNAME:CEST
DTSTART:20280326T010000
END:DAYLIGHT
BEGIN:STANDARD
TZOFFSETFROM:+0200
TZOFFSETTO:+0100
TZNAME:CET
DTSTART:20281029T010000
END:STANDARD
BEGIN:DAYLIGHT
TZOFFSETFROM:+0100
TZOFFSETTO:+0200
TZNAME:CEST
DTSTART:20290325T010000
END:DAYLIGHT
BEGIN:STANDARD
TZOFFSETFROM:+0200
TZOFFSETTO:+0100
TZNAME:CET
DTSTART:20291028T010000
END:STANDARD
END:VTIMEZONE
BEGIN:VEVENT
DTSTART;TZID=Europe/Amsterdam:20260528T200000
DTEND;TZID=Europe/Amsterdam:20260528T233000
DTSTAMP:20260421T175319
CREATED:20251026T193910Z
LAST-MODIFIED:20260414T180921Z
UID:23843-1779998400-1780011000@venlose-sv.nl
SUMMARY:Open Kampioenschap Venlo R2
DESCRIPTION:
URL:https://venlose-sv.nl/agenda/open-kampioenschap-venlo-r1/
LOCATION:Ald Weishoès\, Grote Kerkstraat 31\, Venlo\, 5911 CG
ATTACH;FMTTYPE=image/jpeg:https://venlose-sv.nl/wp-content/uploads/2022/11/Ald-Weishoes.jpg
ORGANIZER;CN="Venlose Schaakvereniging":MAILTO:geert.hovens@planet.nl
END:VEVENT
BEGIN:VEVENT
DTSTART;TZID=Europe/Amsterdam:20260601T200000
DTEND;TZID=Europe/Amsterdam:20260601T233000
DTSTAMP:20260421T175319
CREATED:20250916T203420Z
LAST-MODIFIED:20251205T150650Z
UID:23534-1780344000-1780356600@venlose-sv.nl
SUMMARY:BSV Open\, ronde 7
DESCRIPTION:Blerickse Schaakvereniging
URL:https://venlose-sv.nl/agenda/bsv-open-ronde-7/
LOCATION:’t Raodhoes\, Antoniusplein 2\, Blerick\, 5921 GV\, Nederland
ATTACH;FMTTYPE=image/jpeg:https://venlose-sv.nl/wp-content/uploads/Raodhoes-Blerick.jpg
END:VEVENT
BEGIN:VEVENT
DTSTART;TZID=Europe/Amsterdam:20260604T200000
DTEND;TZID=Europe/Amsterdam:20260604T233000
DTSTAMP:20260421T175319
CREATED:20251026T194044Z
LAST-MODIFIED:20260414T181201Z
UID:23845-1780603200-1780615800@venlose-sv.nl
SUMMARY:Open Kampioenschap Venlo R3
DESCRIPTION:
URL:https://venlose-sv.nl/agenda/open-kampioenschap-venlo-r2/
LOCATION:Ald Weishoès\, Grote Kerkstraat 31\, Venlo\, 5911 CG
ATTACH;FMTTYPE=image/jpeg:https://venlose-sv.nl/wp-content/uploads/2022/11/Ald-Weishoes.jpg
ORGANIZER;CN="Venlose Schaakvereniging":MAILTO:geert.hovens@planet.nl
END:VEVENT
BEGIN:VEVENT
DTSTART;TZID=Europe/Amsterdam:20260611T200000
DTEND;TZID=Europe/Amsterdam:20260611T233000
DTSTAMP:20260421T175319
CREATED:20251026T194204Z
LAST-MODIFIED:20260414T181223Z
UID:23847-1781208000-1781220600@venlose-sv.nl
SUMMARY:Open Kampioenschap Venlo R4
DESCRIPTION:
URL:https://venlose-sv.nl/agenda/open-kampioenschap-venlo-r3/
LOCATION:Ald Weishoès\, Grote Kerkstraat 31\, Venlo\, 5911 CG
ATTACH;FMTTYPE=image/jpeg:https://venlose-sv.nl/wp-content/uploads/2022/11/Ald-Weishoes.jpg
ORGANIZER;CN="Venlose Schaakvereniging":MAILTO:geert.hovens@planet.nl
END:VEVENT
BEGIN:VEVENT
DTSTART;VALUE=DATE:20260614
DTEND;VALUE=DATE:20260615
DTSTAMP:20260421T175319
CREATED:20251014T181639Z
LAST-MODIFIED:20251014T181730Z
UID:23752-1781395200-1781481599@venlose-sv.nl
SUMMARY:4e Zomertoernooi Maastricht
DESCRIPTION:SV Maastricht \nOnder voorbehoud \nMeer info via: https://www.lisb.nl/jeugd/competities/jeugd-grand-prix
URL:https://venlose-sv.nl/agenda/4e-zomertoernooi-maastricht/
CATEGORIES:Jeugd
END:VEVENT
BEGIN:VEVENT
DTSTART;TZID=Europe/Amsterdam:20260618T200000
DTEND;TZID=Europe/Amsterdam:20260618T233000
DTSTAMP:20260421T175319
CREATED:20251026T194325Z
LAST-MODIFIED:20260414T181251Z
UID:23849-1781812800-1781825400@venlose-sv.nl
SUMMARY:Open Kampioenschap Venlo R5
DESCRIPTION:
URL:https://venlose-sv.nl/agenda/open-kampioenschap-venlo-r4/
LOCATION:Ald Weishoès\, Grote Kerkstraat 31\, Venlo\, 5911 CG
ORGANIZER;CN="Venlose Schaakvereniging":MAILTO:geert.hovens@planet.nl
END:VEVENT
BEGIN:VEVENT
DTSTART;TZID=Europe/Amsterdam:20260625T200000
DTEND;TZID=Europe/Amsterdam:20260625T233000
DTSTAMP:20260421T175319
CREATED:20251026T194553Z
LAST-MODIFIED:20260414T181310Z
UID:23851-1782417600-1782430200@venlose-sv.nl
SUMMARY:Open Kampioenschap Venlo R6
DESCRIPTION:
URL:https://venlose-sv.nl/agenda/open-kampioenschap-venlo-r5/
LOCATION:Ald Weishoès\, Grote Kerkstraat 31\, Venlo\, 5911 CG
ATTACH;FMTTYPE=image/jpeg:https://venlose-sv.nl/wp-content/uploads/2022/11/Ald-Weishoes.jpg
ORGANIZER;CN="Venlose Schaakvereniging":MAILTO:geert.hovens@planet.nl
END:VEVENT
BEGIN:VEVENT
DTSTART;TZID=Europe/Amsterdam:20260702T180000
DTEND;TZID=Europe/Amsterdam:20260702T233000
DTSTAMP:20260421T175319
CREATED:20251026T194723Z
LAST-MODIFIED:20260414T181352Z
UID:23853-1783015200-1783035000@venlose-sv.nl
SUMMARY:Open Kampioenschap Venlo R7
DESCRIPTION:
URL:https://venlose-sv.nl/agenda/open-kampioenschap-venlo-r6/
LOCATION:Ald Weishoès\, Grote Kerkstraat 31\, Venlo\, 5911 CG
ATTACH;FMTTYPE=image/jpeg:https://venlose-sv.nl/wp-content/uploads/2022/11/Ald-Weishoes.jpg
ORGANIZER;CN="Venlose Schaakvereniging":MAILTO:geert.hovens@planet.nl
END:VEVENT
BEGIN:VEVENT
DTSTART;TZID=Europe/Amsterdam:20260709T200000
DTEND;TZID=Europe/Amsterdam:20260709T233000
DTSTAMP:20260421T175319
CREATED:20251026T194910Z
LAST-MODIFIED:20260414T181553Z
UID:23855-1783627200-1783639800@venlose-sv.nl
SUMMARY:53e Zomersnelschaaktoernooi
DESCRIPTION:
URL:https://venlose-sv.nl/agenda/open-kampioenschap-venlo-r7/
LOCATION:Ald Weishoès\, Grote Kerkstraat 31\, Venlo\, 5911 CG
ATTACH;FMTTYPE=image/jpeg:https://venlose-sv.nl/wp-content/uploads/2022/11/Ald-Weishoes.jpg
ORGANIZER;CN="Venlose Schaakvereniging":MAILTO:geert.hovens@planet.nl
END:VEVENT
BEGIN:VEVENT
DTSTART;TZID=Europe/Amsterdam:20260716T200000
DTEND;TZID=Europe/Amsterdam:20260716T233000
DTSTAMP:20260421T175319
CREATED:20251026T195036Z
LAST-MODIFIED:20251026T195036Z
UID:23857-1784232000-1784244600@venlose-sv.nl
SUMMARY:53e Zomersnelschaaktoernooi
DESCRIPTION:
URL:https://venlose-sv.nl/agenda/53e-zomersnelschaaktoernooi/
LOCATION:Ald Weishoès\, Grote Kerkstraat 31\, Venlo\, 5911 CG
ATTACH;FMTTYPE=image/jpeg:https://venlose-sv.nl/wp-content/uploads/2022/11/Ald-Weishoes.jpg
ORGANIZER;CN="Venlose Schaakvereniging":MAILTO:geert.hovens@planet.nl
END:VEVENT
BEGIN:VEVENT
DTSTART;TZID=Europe/Amsterdam:20260723T200000
DTEND;TZID=Europe/Amsterdam:20260723T233000
DTSTAMP:20260421T175319
CREATED:20251026T195210Z
LAST-MODIFIED:20251026T195210Z
UID:23859-1784836800-1784849400@venlose-sv.nl
SUMMARY:53e Zomersnelschaaktoernooi
DESCRIPTION:
URL:https://venlose-sv.nl/agenda/53e-zomersnelschaaktoernooi-2/
LOCATION:Ald Weishoès\, Grote Kerkstraat 31\, Venlo\, 5911 CG
ATTACH;FMTTYPE=image/jpeg:https://venlose-sv.nl/wp-content/uploads/2022/11/Ald-Weishoes.jpg
ORGANIZER;CN="Venlose Schaakvereniging":MAILTO:geert.hovens@planet.nl
END:VEVENT
BEGIN:VEVENT
DTSTART;TZID=Europe/Amsterdam:20260730T200000
DTEND;TZID=Europe/Amsterdam:20260730T233000
DTSTAMP:20260421T175319
CREATED:20251026T195316Z
LAST-MODIFIED:20251026T195329Z
UID:23861-1785441600-1785454200@venlose-sv.nl
SUMMARY:53e Zomersnelschaaktoernooi
DESCRIPTION:
URL:https://venlose-sv.nl/agenda/53e-zomersnelschaaktoernooi-3/
LOCATION:Ald Weishoès\, Grote Kerkstraat 31\, Venlo\, 5911 CG
ATTACH;FMTTYPE=image/jpeg:https://venlose-sv.nl/wp-content/uploads/2022/11/Ald-Weishoes.jpg
ORGANIZER;CN="Venlose Schaakvereniging":MAILTO:geert.hovens@planet.nl
END:VEVENT
BEGIN:VEVENT
DTSTART;TZID=Europe/Amsterdam:20260806T200000
DTEND;TZID=Europe/Amsterdam:20260806T233000
DTSTAMP:20260421T175319
CREATED:20251026T195508Z
LAST-MODIFIED:20251026T195508Z
UID:23864-1786046400-1786059000@venlose-sv.nl
SUMMARY:53e Zomersnelschaaktoernooi
DESCRIPTION:
URL:https://venlose-sv.nl/agenda/53e-zomersnelschaaktoernooi-4/
LOCATION:Ald Weishoès\, Grote Kerkstraat 31\, Venlo\, 5911 CG
ATTACH;FMTTYPE=image/jpeg:https://venlose-sv.nl/wp-content/uploads/2022/11/Ald-Weishoes.jpg
ORGANIZER;CN="Venlose Schaakvereniging":MAILTO:geert.hovens@planet.nl
END:VEVENT
BEGIN:VEVENT
DTSTART;TZID=Europe/Amsterdam:20260813T200000
DTEND;TZID=Europe/Amsterdam:20260813T233000
DTSTAMP:20260421T175319
CREATED:20251026T195620Z
LAST-MODIFIED:20251026T195620Z
UID:23866-1786651200-1786663800@venlose-sv.nl
SUMMARY:53e Zomersnelschaaktoernooi
DESCRIPTION:
URL:https://venlose-sv.nl/agenda/53e-zomersnelschaaktoernooi-5/
LOCATION:Ald Weishoès\, Grote Kerkstraat 31\, Venlo\, 5911 CG
ATTACH;FMTTYPE=image/jpeg:https://venlose-sv.nl/wp-content/uploads/2022/11/Ald-Weishoes.jpg
ORGANIZER;CN="Venlose Schaakvereniging":MAILTO:geert.hovens@planet.nl
END:VEVENT
BEGIN:VEVENT
DTSTART;TZID=Europe/Amsterdam:20260820T200000
DTEND;TZID=Europe/Amsterdam:20260820T230000
DTSTAMP:20260421T175319
CREATED:20251026T195737Z
LAST-MODIFIED:20260414T181735Z
UID:23868-1787256000-1787266800@venlose-sv.nl
SUMMARY:Vrije avond
DESCRIPTION:
URL:https://venlose-sv.nl/agenda/53e-zomersnelschaaktoernooi-6/
LOCATION:Ald Weishoès\, Grote Kerkstraat 31\, Venlo\, 5911 CG
ATTACH;FMTTYPE=image/jpeg:https://venlose-sv.nl/wp-content/uploads/2022/11/Ald-Weishoes.jpg
ORGANIZER;CN="Venlose Schaakvereniging":MAILTO:geert.hovens@planet.nl
END:VEVENT
BEGIN:VEVENT
DTSTART;TZID=Europe/Amsterdam:20260827T220000
DTEND;TZID=Europe/Amsterdam:20260827T223000
DTSTAMP:20260421T175319
CREATED:20250731T113331Z
LAST-MODIFIED:20251026T195825Z
UID:23267-1787868000-1787869800@venlose-sv.nl
SUMMARY:Algemene ledenvergadering
DESCRIPTION:
URL:https://venlose-sv.nl/agenda/algemene-ledenvergadering-2/
LOCATION:Ald Weishoès\, Grote Kerkstraat 31\, Venlo\, 5911 CG
CATEGORIES:Jeugd
END:VEVENT
BEGIN:VEVENT
DTSTART;TZID=Europe/Amsterdam:20260903T200000
DTEND;TZID=Europe/Amsterdam:20260903T233000
DTSTAMP:20260421T175319
CREATED:20251026T195944Z
LAST-MODIFIED:20251026T195944Z
UID:23870-1788465600-1788478200@venlose-sv.nl
SUMMARY:interne competitie + rapid: Start nieuwe seizoen
DESCRIPTION:
URL:https://venlose-sv.nl/agenda/interne-competitie-rapid-start-nieuwe-seizoen/
LOCATION:Ald Weishoès\, Grote Kerkstraat 31\, Venlo\, 5911 CG
END:VEVENT
BEGIN:VEVENT
DTSTART;TZID=Europe/Amsterdam:20260912T080000
DTEND;TZID=Europe/Amsterdam:20260912T170000
DTSTAMP:20260421T175319
CREATED:20260116T111702Z
LAST-MODIFIED:20260116T111702Z
UID:24486-1789200000-1789232400@venlose-sv.nl
SUMMARY:H.S.C. 100 jaar rapidtoernooi
DESCRIPTION:Hoofdstraat 136\, Helmond\n12 September 2026 10.00 – Nader te bepalen\nMeer info hier.
URL:https://venlose-sv.nl/agenda/h-s-c-100-jaar-rapidtoernooi/
END:VEVENT
BEGIN:VEVENT
DTSTART;VALUE=DATE:20260919
DTEND;VALUE=DATE:20260920
DTSTAMP:20260421T175319
CREATED:20251216T194855Z
LAST-MODIFIED:20251216T195045Z
UID:24329-1789776000-1789862399@venlose-sv.nl
SUMMARY:1e ronde KNSB-competitie 2026-2027
DESCRIPTION:
URL:https://venlose-sv.nl/agenda/1e-ronde-lisb-competitie-2026-2027/
END:VEVENT
BEGIN:VEVENT
DTSTART;VALUE=DATE:20261003
DTEND;VALUE=DATE:20261004
DTSTAMP:20260421T175319
CREATED:20251216T195010Z
LAST-MODIFIED:20251216T195010Z
UID:24331-1790985600-1791071999@venlose-sv.nl
SUMMARY:2e ronde KNSB-competitie 2026-2027
DESCRIPTION:
URL:https://venlose-sv.nl/agenda/2e-ronde-knsb-competitie-2026-2027/
END:VEVENT
BEGIN:VEVENT
DTSTART;VALUE=DATE:20261031
DTEND;VALUE=DATE:20261101
DTSTAMP:20260421T175319
CREATED:20251216T195129Z
LAST-MODIFIED:20251216T195129Z
UID:24336-1793404800-1793491199@venlose-sv.nl
SUMMARY:3e ronde KNSB-competitie 2026-2027
DESCRIPTION:
URL:https://venlose-sv.nl/agenda/3e-ronde-knsb-competitie-2026-2027/
END:VEVENT
BEGIN:VEVENT
DTSTART;VALUE=DATE:20261121
DTEND;VALUE=DATE:20261122
DTSTAMP:20260421T175319
CREATED:20251216T195210Z
LAST-MODIFIED:20251216T195210Z
UID:24338-1795219200-1795305599@venlose-sv.nl
SUMMARY:4e ronde KNSB-competitie 2026-2027
DESCRIPTION:
URL:https://venlose-sv.nl/agenda/4e-ronde-knsb-competitie-2026-2027/
END:VEVENT
BEGIN:VEVENT
DTSTART;VALUE=DATE:20261212
DTEND;VALUE=DATE:20261213
DTSTAMP:20260421T175319
CREATED:20251216T195255Z
LAST-MODIFIED:20251216T195255Z
UID:24340-1797033600-1797119999@venlose-sv.nl
SUMMARY:5e ronde KNSB-competitie 2026-2027
DESCRIPTION:
URL:https://venlose-sv.nl/agenda/5e-ronde-knsb-competitie-2026-2027/
END:VEVENT
BEGIN:VEVENT
DTSTART;VALUE=DATE:20270103
DTEND;VALUE=DATE:20270104
DTSTAMP:20260421T175319
CREATED:20260414T182102Z
LAST-MODIFIED:20260414T182102Z
UID:25097-1798934400-1799020799@venlose-sv.nl
SUMMARY:Nieuwjaarstoernooi 2027
DESCRIPTION:’t Pionneke\nWijkgebouw Tegelarijveld\, Schepen van Hertefeltstraat 26a\, Roermond
URL:https://venlose-sv.nl/agenda/nieuwjaarstoernooi-2027/
END:VEVENT
BEGIN:VEVENT
DTSTART;VALUE=DATE:20270313
DTEND;VALUE=DATE:20270314
DTSTAMP:20260421T175319
CREATED:20251216T195514Z
LAST-MODIFIED:20251216T195514Z
UID:24344-1804896000-1804982399@venlose-sv.nl
SUMMARY:7e ronde KNSB-competitie 2026-2027
DESCRIPTION:
URL:https://venlose-sv.nl/agenda/7e-ronde-knsb-competitie-2026-2027/
END:VEVENT
BEGIN:VEVENT
DTSTART;VALUE=DATE:20270403
DTEND;VALUE=DATE:20270404
DTSTAMP:20260421T175319
CREATED:20251216T195600Z
LAST-MODIFIED:20251216T195600Z
UID:24346-1806710400-1806796799@venlose-sv.nl
SUMMARY:8e ronde KNSB-competitie 2026-2027
DESCRIPTION:
URL:https://venlose-sv.nl/agenda/8e-ronde-knsb-competitie-2026-2027/
END:VEVENT
BEGIN:VEVENT
DTSTART;VALUE=DATE:20270417
DTEND;VALUE=DATE:20270418
DTSTAMP:20260421T175319
CREATED:20251216T195638Z
LAST-MODIFIED:20251216T195659Z
UID:24348-1807920000-1808006399@venlose-sv.nl
SUMMARY:9e ronde KNSB-competitie 2026-2027
DESCRIPTION:
URL:https://venlose-sv.nl/agenda/9e-ronde-knsb-competitie-2026-2027/
END:VEVENT
BEGIN:VEVENT
DTSTART;VALUE=DATE:20280108
DTEND;VALUE=DATE:20280109
DTSTAMP:20260421T175319
CREATED:20251216T195409Z
LAST-MODIFIED:20251216T195409Z
UID:24342-1830902400-1830988799@venlose-sv.nl
SUMMARY:6e ronde KNSB-competitie 2026-2027
DESCRIPTION:
URL:https://venlose-sv.nl/agenda/6e-ronde-knsb-competitie-2026-2027/
END:VEVENT
END:VCALENDAR