BEGIN:VCALENDAR
VERSION:2.0
PRODID:-//Venlose Schaakvereniging - ECPv6.15.14//NONSGML v1.0//EN
CALSCALE:GREGORIAN
METHOD:PUBLISH
X-WR-CALNAME:Venlose Schaakvereniging
X-ORIGINAL-URL:https://venlose-sv.nl
X-WR-CALDESC:Evenementen voor Venlose Schaakvereniging
REFRESH-INTERVAL;VALUE=DURATION:PT1H
X-Robots-Tag:noindex
X-PUBLISHED-TTL:PT1H
BEGIN:VTIMEZONE
TZID:Europe/Amsterdam
BEGIN:DAYLIGHT
TZOFFSETFROM:+0100
TZOFFSETTO:+0200
TZNAME:CEST
DTSTART:20250330T010000
END:DAYLIGHT
BEGIN:STANDARD
TZOFFSETFROM:+0200
TZOFFSETTO:+0100
TZNAME:CET
DTSTART:20251026T010000
END:STANDARD
BEGIN:DAYLIGHT
TZOFFSETFROM:+0100
TZOFFSETTO:+0200
TZNAME:CEST
DTSTART:20260329T010000
END:DAYLIGHT
BEGIN:STANDARD
TZOFFSETFROM:+0200
TZOFFSETTO:+0100
TZNAME:CET
DTSTART:20261025T010000
END:STANDARD
BEGIN:DAYLIGHT
TZOFFSETFROM:+0100
TZOFFSETTO:+0200
TZNAME:CEST
DTSTART:20270328T010000
END:DAYLIGHT
BEGIN:STANDARD
TZOFFSETFROM:+0200
TZOFFSETTO:+0100
TZNAME:CET
DTSTART:20271031T010000
END:STANDARD
END:VTIMEZONE
BEGIN:VEVENT
DTSTART;VALUE=DATE:20260508
DTEND;VALUE=DATE:20260511
DTSTAMP:20260421T130148
CREATED:20260414T184131Z
LAST-MODIFIED:20260414T184131Z
UID:25107-1778198400-1778457599@venlose-sv.nl
SUMMARY:16e WLC Weekendtoernooi
DESCRIPTION:Zie info: https://schaakbond.nl/event/16e-wlc-weekendtoernooi-2026-05-08/\nen\nhttps://www.svwlc.nl/wlc-weekendtoernooi/weekendtoernooi-info/ \nBuurt- en activiteitencentrum “De Hoeksteen”\nGerretsonlaan 1a\n5624 JL Eindhoven
URL:https://venlose-sv.nl/agenda/16e-wlc-weekendtoernooi/
END:VEVENT
END:VCALENDAR