BEGIN:VCALENDAR
VERSION:2.0
PRODID:-//Venlose Schaakvereniging - ECPv6.15.14//NONSGML v1.0//EN
CALSCALE:GREGORIAN
METHOD:PUBLISH
X-WR-CALNAME:Venlose Schaakvereniging
X-ORIGINAL-URL:https://venlose-sv.nl
X-WR-CALDESC:Evenementen voor Venlose Schaakvereniging
REFRESH-INTERVAL;VALUE=DURATION:PT1H
X-Robots-Tag:noindex
X-PUBLISHED-TTL:PT1H
BEGIN:VTIMEZONE
TZID:Europe/Amsterdam
BEGIN:DAYLIGHT
TZOFFSETFROM:+0100
TZOFFSETTO:+0200
TZNAME:CEST
DTSTART:20250330T010000
END:DAYLIGHT
BEGIN:STANDARD
TZOFFSETFROM:+0200
TZOFFSETTO:+0100
TZNAME:CET
DTSTART:20251026T010000
END:STANDARD
BEGIN:DAYLIGHT
TZOFFSETFROM:+0100
TZOFFSETTO:+0200
TZNAME:CEST
DTSTART:20260329T010000
END:DAYLIGHT
BEGIN:STANDARD
TZOFFSETFROM:+0200
TZOFFSETTO:+0100
TZNAME:CET
DTSTART:20261025T010000
END:STANDARD
BEGIN:DAYLIGHT
TZOFFSETFROM:+0100
TZOFFSETTO:+0200
TZNAME:CEST
DTSTART:20270328T010000
END:DAYLIGHT
BEGIN:STANDARD
TZOFFSETFROM:+0200
TZOFFSETTO:+0100
TZNAME:CET
DTSTART:20271031T010000
END:STANDARD
END:VTIMEZONE
BEGIN:VEVENT
DTSTART;TZID=Europe/Amsterdam:20260423T183000
DTEND;TZID=Europe/Amsterdam:20260423T193000
DTSTAMP:20260423T023110
CREATED:20260208T141712Z
LAST-MODIFIED:20260218T204242Z
UID:24769-1776969000-1776972600@venlose-sv.nl
SUMMARY:Jeugdschaak
DESCRIPTION:
URL:https://venlose-sv.nl/agenda/24769/
LOCATION:Ald Weishoès\, Grote Kerkstraat 31\, Venlo\, 5911 CG
CATEGORIES:Jeugd
ORGANIZER;CN="Venlose Schaakvereniging":MAILTO:geert.hovens@planet.nl
END:VEVENT
BEGIN:VEVENT
DTSTART;TZID=Europe/Amsterdam:20260423T200000
DTEND;TZID=Europe/Amsterdam:20260423T233000
DTSTAMP:20260423T023110
CREATED:20251219T162016Z
LAST-MODIFIED:20251219T162016Z
UID:24403-1776974400-1776987000@venlose-sv.nl
SUMMARY:interne competitie + rapid
DESCRIPTION:
URL:https://venlose-sv.nl/agenda/interne-competitie-rapid-28/
LOCATION:Ald Weishoès\, Grote Kerkstraat 31\, Venlo\, 5911 CG
END:VEVENT
END:VCALENDAR