BEGIN:VCALENDAR
VERSION:2.0
PRODID:-//Venlose Schaakvereniging - ECPv6.15.14//NONSGML v1.0//EN
CALSCALE:GREGORIAN
METHOD:PUBLISH
X-WR-CALNAME:Venlose Schaakvereniging
X-ORIGINAL-URL:https://venlose-sv.nl
X-WR-CALDESC:Evenementen voor Venlose Schaakvereniging
REFRESH-INTERVAL;VALUE=DURATION:PT1H
X-Robots-Tag:noindex
X-PUBLISHED-TTL:PT1H
BEGIN:VTIMEZONE
TZID:Europe/Amsterdam
BEGIN:DAYLIGHT
TZOFFSETFROM:+0100
TZOFFSETTO:+0200
TZNAME:CEST
DTSTART:20250330T010000
END:DAYLIGHT
BEGIN:STANDARD
TZOFFSETFROM:+0200
TZOFFSETTO:+0100
TZNAME:CET
DTSTART:20251026T010000
END:STANDARD
BEGIN:DAYLIGHT
TZOFFSETFROM:+0100
TZOFFSETTO:+0200
TZNAME:CEST
DTSTART:20260329T010000
END:DAYLIGHT
BEGIN:STANDARD
TZOFFSETFROM:+0200
TZOFFSETTO:+0100
TZNAME:CET
DTSTART:20261025T010000
END:STANDARD
BEGIN:DAYLIGHT
TZOFFSETFROM:+0100
TZOFFSETTO:+0200
TZNAME:CEST
DTSTART:20270328T010000
END:DAYLIGHT
BEGIN:STANDARD
TZOFFSETFROM:+0200
TZOFFSETTO:+0100
TZNAME:CET
DTSTART:20271031T010000
END:STANDARD
END:VTIMEZONE
BEGIN:VEVENT
DTSTART;TZID=Europe/Amsterdam:20260419T130000
DTEND;TZID=Europe/Amsterdam:20260419T180000
DTSTAMP:20260419T171104
CREATED:20251005T104440Z
LAST-MODIFIED:20251005T104440Z
UID:23656-1776603600-1776621600@venlose-sv.nl
SUMMARY:6e ronde LiSB-competitie 2025-2026
DESCRIPTION:Reuver 1 – Venlo 1 (LiSB)\nVenlo 2 – Heerlen 2
URL:https://venlose-sv.nl/agenda/6e-ronde-lisb-competitie-2025-2026/
END:VEVENT
END:VCALENDAR